BEGIN:VCALENDAR
VERSION:2.0
PRODID:-//SportPlan//Event Calendar//EN
CALSCALE:GREGORIAN
BEGIN:VEVENT
UID:519632cc-685d-43ca-ad24-7e8c849c9fe9@sportplan.local
DTSTAMP:20260420T181522Z
DTSTART;VALUE=DATE:20260411
DTEND;VALUE=DATE:20260413
SUMMARY:Duatlo e Aquatlo de Lousada
DESCRIPTION:Official Federação de Triatlo de Portugal event page for the 2026 Duatlo e Aquatlo de Lousada in Lousada\, Portugal on 11 and 12 April 2026. The official page exposes the event as Prova Aberta\, with age-group and paratriathlon participation signals\, supporting conservative inclusion as an amateur-participation weekend event.
LOCATION:Lousada\, Portugal
URL:https://sportplan.vercel.app/it/events/duatlo-e-aquatlo-de-lousada-2026-04-11
END:VEVENT
END:VCALENDAR
