BEGIN:VCALENDAR
VERSION:2.0
PRODID:-//SportPlan//Event Calendar//EN
CALSCALE:GREGORIAN
BEGIN:VEVENT
UID:6da2b321-2aab-4dde-bf22-f788ec6c3b2f@sportplan.local
DTSTAMP:20260420T201801Z
DTSTART;VALUE=DATE:20260614
DTEND;VALUE=DATE:20260615
SUMMARY:Duatlo Areias de São João
DESCRIPTION:Official Federação de Triatlo de Portugal event page for Duatlo Areias de São João. The federation page lists the 14 June 2026 event in the Algarve e Baixo Alentejo calendar\, supporting conservative inclusion as an official amateur duathlon entry.
LOCATION:Albufeira\, Faro\, Portugal
URL:https://sportplan.vercel.app/it/events/duatlo-areias-de-sao-joao-albufeira-2026-06-14
END:VEVENT
END:VCALENDAR
