BEGIN:VCALENDAR
VERSION:2.0
PRODID:-//SportPlan//Event Calendar//EN
CALSCALE:GREGORIAN
BEGIN:VEVENT
UID:92cea165-721c-4646-a0e7-ef37721eb2b0@sportplan.local
DTSTAMP:20260420T194915Z
DTSTART;VALUE=DATE:20260524
DTEND;VALUE=DATE:20260525
SUMMARY:dsm-firmenich Long Course Weekend Netherlands - Maastricht
DESCRIPTION:discovered via Brave web_search on direct World's Marathons Netherlands running event pages\; Netherlands remained underrepresented vs. seeded countries.
LOCATION:Maastricht\, Netherlands
URL:https://sportplan.vercel.app/it/events/dsm-firmenich-long-course-weekend-netherlands-maastricht-2026-05-24
END:VEVENT
END:VCALENDAR
