BEGIN:VCALENDAR
VERSION:2.0
PRODID:-//SportPlan//Event Calendar//EN
CALSCALE:GREGORIAN
BEGIN:VEVENT
UID:643a895e-ea6f-4652-a73e-ae39a4f3bed7@sportplan.local
DTSTAMP:20260420T211514Z
DTSTART;VALUE=DATE:20260905
DTEND;VALUE=DATE:20260906
SUMMARY:Druskininkų triatlonas 2026
DESCRIPTION:Druskininkų triatlonas 2026 is an official amateur triathlon event in Druskininkai\, Lithuania on 5 September 2026\, listed in the 2026 Lithuanian Triathlon Federation calendar. The federation calendar lists open participation formats including Olympic distance\, sprint distance\, TRI-FUN\, children’s triathlon\, and Splash and Run\, alongside Lithuanian youth cup categories.
LOCATION:Druskininkai
URL:https://sportplan.vercel.app/it/events/druskininku-triatlonas-2026-druskininkai-2026-09-05
END:VEVENT
END:VCALENDAR
