BEGIN:VCALENDAR
VERSION:2.0
PRODID:-//SportPlan//Event Calendar//EN
CALSCALE:GREGORIAN
BEGIN:VEVENT
UID:622fcec3-9623-48e4-821d-4a803be402b8@sportplan.local
DTSTAMP:20260421T000020Z
DTSTART;VALUE=DATE:20270124
DTEND;VALUE=DATE:20270125
SUMMARY:Dolomitenlauf 21 km CL 2027
DESCRIPTION:Dolomitenlauf 21 km CL is an official amateur classic-technique cross-country ski race at Austria's Dolomitenlauf weekend in Obertilliach\, East Tyrol. The official Dolomitenlauf program lists the classic 21 km race on Sunday 24 January 2027\, and the official course page confirms the event's public race format in Obertilliach.
LOCATION:Obertilliach\, East Tyrol\, Austria
URL:https://sportplan.vercel.app/it/events/dolomitenlauf-21-km-cl-obertilliach-2027-01-24
END:VEVENT
END:VCALENDAR
