BEGIN:VCALENDAR
VERSION:2.0
PRODID:-//SportPlan//Event Calendar//EN
CALSCALE:GREGORIAN
BEGIN:VEVENT
UID:e4878a35-a442-4079-af93-2da16113bf27@sportplan.local
DTSTAMP:20260420T194503Z
DTSTART;VALUE=DATE:20261231
DTEND;VALUE=DATE:20270101
SUMMARY:Distances & Categories
DESCRIPTION:Explore MetaSprint Series distances and categories — from Kids and Youth to adult races. Find the perfect triathlon\, duathlon\, or aquathlon challenge in Singapore\, no matter your age or experience.
LOCATION:Singapore
URL:https://sportplan.vercel.app/it/events/distances-categories-2026-12-31
END:VEVENT
END:VCALENDAR
