BEGIN:VCALENDAR
VERSION:2.0
PRODID:-//SportPlan//Event Calendar//EN
CALSCALE:GREGORIAN
BEGIN:VEVENT
UID:f3e3460c-bb14-4d48-b08e-31ff7986b412@sportplan.local
DTSTAMP:20260420T201628Z
DTSTART;VALUE=DATE:20260901
DTEND;VALUE=DATE:20260902
SUMMARY:Desafío Urbión 37K
DESCRIPTION:Desafío Urbión 37K se celebrará el 1 de septiembre de 2026 en Covaledas\, Soria\, Castilla y León. Es una buena cita para participantes y acompañantes que buscan un ambiente activo y bien organizado. La distancia anunciada es de 37 km.
LOCATION:Covaledas\, Soria\, Castilla y León
URL:https://sportplan.vercel.app/it/events/desafio-urbion-37k-covaledas-2026-09-01-37k
END:VEVENT
END:VCALENDAR
