BEGIN:VCALENDAR
VERSION:2.0
PRODID:-//SportPlan//Event Calendar//EN
CALSCALE:GREGORIAN
BEGIN:VEVENT
UID:9bd68e0d-e86f-400c-ae72-b4a02fc582cf@sportplan.local
DTSTAMP:20260420T223857Z
DTSTART;VALUE=DATE:20260808
DTEND;VALUE=DATE:20260809
SUMMARY:Cykelvasan 90 2026
DESCRIPTION:Cykelvasan 90 2026 is an official amateur mountain bike event from Vasaloppet in Sweden on 8 August 2026. The official event page describes a 95 km point-to-point ride from Sälen to Mora across the classic Vasaloppet route\, with competition and leisure classes\, aid stations\, bike service and live broadcast coverage.
LOCATION:Sälen to Mora\, Dalarna County\, Sweden
URL:https://sportplan.vercel.app/it/events/cykelvasan-90-2026-2026-08-08
END:VEVENT
END:VCALENDAR
