BEGIN:VCALENDAR
VERSION:2.0
PRODID:-//SportPlan//Event Calendar//EN
CALSCALE:GREGORIAN
BEGIN:VEVENT
UID:dad8ff56-8440-4110-b605-69fd9569ff36@sportplan.local
DTSTAMP:20260420T214603Z
DTSTART;VALUE=DATE:20260523
DTEND;VALUE=DATE:20260524
SUMMARY:CXM Peña Cancías
DESCRIPTION:CXM Peña Cancías se celebrará el 23 mayo 2026 en Fiscal\, Huesca. Es una gran oportunidad para disfrutar del ambiente del evento y compartir la experiencia con otros participantes. Ideal para quienes quieren marcarse un objetivo de temporada y vivir una jornada bien organizada en un entorno especial.
LOCATION:Fiscal\, Huesca
URL:https://sportplan.vercel.app/it/events/cxm-pe-a-canc-as-fiscal-2026-05-23
END:VEVENT
END:VCALENDAR
