BEGIN:VCALENDAR
VERSION:2.0
PRODID:-//SportPlan//Event Calendar//EN
CALSCALE:GREGORIAN
BEGIN:VEVENT
UID:62e47e96-2f4e-43c8-b9d8-f129979dcd90@sportplan.local
DTSTAMP:20260420T195719Z
DTSTART;VALUE=DATE:20260727
DTEND;VALUE=DATE:20260728
SUMMARY:CXM Nocturna de Coripe 15K 11K
DESCRIPTION:CXM Nocturna de Coripe 15K 11K se celebrará el 27 de julio de 2026 en Coripe\, Sevilla\, Andalucía. Es una buena opción para quienes buscan un reto bien organizado y una jornada deportiva en un entorno especial. La distancia anunciada es de 15 km\, ideal para planificar ritmo\, entrenamiento y logística con antelación.
LOCATION:Coripe\, Sevilla\, Andalucía
URL:https://sportplan.vercel.app/it/events/cxm-nocturna-de-coripe-15k-11k-coripe-2026-07-27-15k
END:VEVENT
END:VCALENDAR
