BEGIN:VCALENDAR
VERSION:2.0
PRODID:-//SportPlan//Event Calendar//EN
CALSCALE:GREGORIAN
BEGIN:VEVENT
UID:5e8849e8-ae31-46c3-a150-ca35792c79ef@sportplan.local
DTSTAMP:20260420T195719Z
DTSTART;VALUE=DATE:20260622
DTEND;VALUE=DATE:20260623
SUMMARY:CXM Cerro Verdugo
DESCRIPTION:
LOCATION:Prado del Rey\, Sevilla\, Andalucía
URL:https://sportplan.vercel.app/it/events/cxm-cerro-verdugo-prado-del-rey-2026-06-22-22k
END:VEVENT
END:VCALENDAR
