BEGIN:VCALENDAR
VERSION:2.0
PRODID:-//SportPlan//Event Calendar//EN
CALSCALE:GREGORIAN
BEGIN:VEVENT
UID:d81af132-c5a2-4ce4-baa2-3d78c2161534@sportplan.local
DTSTAMP:20260420T195938Z
DTSTART;VALUE=DATE:20260501
DTEND;VALUE=DATE:20260502
SUMMARY:Cursa Muntanya del Pa amb Tomàquet! Express
DESCRIPTION:Cursa Muntanya del Pa amb Tomàquet! Express se celebrará el 1 de mayo de 2026 en Santa coloma de farners\, Girona\, Cataluña. Es una buena opción para quienes buscan sumar una experiencia deportiva bien organizada sobre una distancia de unos 13 km. Ideal tanto para participantes habituales como para quienes quieren marcarse un nuevo reto en el calendario.
LOCATION:Santa coloma de farners\, Girona\, Cataluña
URL:https://sportplan.vercel.app/it/events/cursa-muntanya-del-pa-amb-tomaquet-express-santa-coloma-de-farners-2026-05-01-13
END:VEVENT
END:VCALENDAR
