BEGIN:VCALENDAR
VERSION:2.0
PRODID:-//SportPlan//Event Calendar//EN
CALSCALE:GREGORIAN
BEGIN:VEVENT
UID:5292b1cd-bf89-480b-9c7e-df707f14dcee@sportplan.local
DTSTAMP:20260420T224518Z
DTSTART;VALUE=DATE:20261123
DTEND;VALUE=DATE:20261124
SUMMARY:Cursa de SA Sobrassada
DESCRIPTION:Cursa de SA Sobrassada se celebrará el 23 noviembre 2026 en Santa Gertrudis\, Eivissa i Forment.\, Baleares\, ofreciendo una cita ideal para quienes quieren vivir el ambiente del evento desde cerca. Con una distancia aproximada de 21 km\, es una opción atractiva tanto para participantes habituales como para quienes quieren sumar un nuevo reto en el calendario.
LOCATION:Santa Gertrudis\, Eivissa i Forment.\, Baleares
URL:https://sportplan.vercel.app/it/events/cursa-de-sa-sobrassada-santa-gertrudis-2026-11-23-21k
END:VEVENT
END:VCALENDAR
