BEGIN:VCALENDAR
VERSION:2.0
PRODID:-//SportPlan//Event Calendar//EN
CALSCALE:GREGORIAN
BEGIN:VEVENT
UID:6d5c6feb-b75f-4f4a-940e-99fbb9c12136@sportplan.local
DTSTAMP:20260420T181825Z
DTSTART;VALUE=DATE:20260503
DTEND;VALUE=DATE:20260504
SUMMARY:Cross Triathlon des Gorges de la Loire
DESCRIPTION:
LOCATION:Saint-Étienne
URL:https://sportplan.vercel.app/it/events/cross-triathlon-des-gorges-de-la-loire-saint-etienne-2026-05-03
END:VEVENT
END:VCALENDAR
