BEGIN:VCALENDAR
VERSION:2.0
PRODID:-//SportPlan//Event Calendar//EN
CALSCALE:GREGORIAN
BEGIN:VEVENT
UID:3abf81c2-52dd-4b14-aa2a-aa0222e3d098@sportplan.local
DTSTAMP:20260420T194757Z
DTSTART;VALUE=DATE:20260425
DTEND;VALUE=DATE:20260426
SUMMARY:Corvedale Cake Walk
DESCRIPTION:
LOCATION:Holdgate Church
URL:https://sportplan.vercel.app/it/events/corvedale-cake-walk-holdgate-church-2026-04-25
END:VEVENT
END:VCALENDAR
