BEGIN:VCALENDAR
VERSION:2.0
PRODID:-//SportPlan//Event Calendar//EN
CALSCALE:GREGORIAN
BEGIN:VEVENT
UID:f059fed0-64f3-451b-b98d-cac966e938b1@sportplan.local
DTSTAMP:20260420T195016Z
DTSTART;VALUE=DATE:20260524
DTEND;VALUE=DATE:20260525
SUMMARY:Corrida Fim da Europa
DESCRIPTION:Corrida Fim da Europa acontecerá em 24 de maio de 2026 em Sintra. É uma ótima oportunidade para aproveitar o ambiente do evento e viver uma experiência esportiva bem organizada. Uma excelente escolha tanto para participantes frequentes quanto para quem quer adicionar um novo desafio ao calendário.
LOCATION:Sintra
URL:https://sportplan.vercel.app/it/events/corrida-fim-da-europa-sintra-2026-05-24
END:VEVENT
END:VCALENDAR
