BEGIN:VCALENDAR
VERSION:2.0
PRODID:-//SportPlan//Event Calendar//EN
CALSCALE:GREGORIAN
BEGIN:VEVENT
UID:5450ec31-5390-4ba6-952a-f27b2db0a649@sportplan.local
DTSTAMP:20260420T194542Z
DTSTART;VALUE=DATE:20260606
DTEND;VALUE=DATE:20260607
SUMMARY:Corrida do Vinho e da Pera Rocha
DESCRIPTION:Corrida do Vinho e da Pera Rocha acontece em 6 de junho de 2026\, em Bombarral. É uma ótima opção para quem procura um desafio bem organizado em um cenário atraente. Ideal para planejar a temporada\, curtir o ambiente do evento e participar no seu ritmo.
LOCATION:Bombarral
URL:https://sportplan.vercel.app/it/events/corrida-do-vinho-e-da-pera-rocha-bombarral-2026-06-06
END:VEVENT
END:VCALENDAR
