BEGIN:VCALENDAR
VERSION:2.0
PRODID:-//SportPlan//Event Calendar//EN
CALSCALE:GREGORIAN
BEGIN:VEVENT
UID:a2bef278-85d5-4ebe-9b4f-b9cf7a7ecd5e@sportplan.local
DTSTAMP:20260420T194550Z
DTSTART;VALUE=DATE:20260425
DTEND;VALUE=DATE:20260426
SUMMARY:Corrida da Liberdade
DESCRIPTION:Corrida da Liberdade acontece em 25 de abril de 2026 em Lisboa. É uma ótima opção para quem procura um evento bem organizado em um ambiente atrativo. Consulte as informações oficiais do organizador para horários\, retirada de kit e detalhes logísticos.
LOCATION:Lisboa
URL:https://sportplan.vercel.app/it/events/corrida-da-liberdade-lisboa-2026-04-25
END:VEVENT
END:VCALENDAR
