BEGIN:VCALENDAR
VERSION:2.0
PRODID:-//SportPlan//Event Calendar//EN
CALSCALE:GREGORIAN
BEGIN:VEVENT
UID:f0cf07b0-0e59-4d83-91eb-8efd27fbfa4a@sportplan.local
DTSTAMP:20260420T211350Z
DTSTART;VALUE=DATE:20260601
DTEND;VALUE=DATE:20260602
SUMMARY:Cork City Marathon 2026
DESCRIPTION:
LOCATION:Cork\, Munster
URL:https://sportplan.vercel.app/it/events/cork-city-marathon-2026-cork-2026-06-01
END:VEVENT
END:VCALENDAR
