BEGIN:VCALENDAR
VERSION:2.0
PRODID:-//SportPlan//Event Calendar//EN
CALSCALE:GREGORIAN
BEGIN:VEVENT
UID:2617be7b-eda9-4087-ae22-c658a81ef26d@sportplan.local
DTSTAMP:20260420T211518Z
DTSTART;VALUE=DATE:20260913
DTEND;VALUE=DATE:20260914
SUMMARY:Copenhagen Half Marathon 2026
DESCRIPTION:Copenhagen Half Marathon 2026 afholdes den 13. september 2026 i Copenhagen\, Capital Region og giver en velorganiseret sportsoplevelse for deltagere på forskellige niveauer. Med en distance på 21 km kombinerer eventet fysisk udfordring\, god stemning og mulighed for at opleve de lokale omgivelser. Det gør arrangementet interessant både for dem\, der jagter en stærk præstation\, og for dem\, der vil sætte sig et nyt sæsonmål.
LOCATION:Copenhagen\, Capital Region
URL:https://sportplan.vercel.app/it/events/copenhagen-half-marathon-2026-copenhagen-2026-09-13
END:VEVENT
END:VCALENDAR
