BEGIN:VCALENDAR
VERSION:2.0
PRODID:-//SportPlan//Event Calendar//EN
CALSCALE:GREGORIAN
BEGIN:VEVENT
UID:14bce9da-233c-44ee-bd52-b18d7c8d9c05@sportplan.local
DTSTAMP:20260420T211340Z
DTSTART;VALUE=DATE:20260614
DTEND;VALUE=DATE:20260615
SUMMARY:Comrades Marathon 2026
DESCRIPTION:Comrades Marathon 2026 takes place in Durban\, KwaZulu-Natal on June 14\, 2026. This event offers runners a well-organized race experience\, covering approximately 87 km. Expect an energizing atmosphere\, a motivating course\, and a great opportunity to enjoy race day in Durban\, KwaZulu-Natal.
LOCATION:Durban\, KwaZulu-Natal
URL:https://sportplan.vercel.app/it/events/comrades-marathon-2026-durban-2026-06-14
END:VEVENT
END:VCALENDAR
