BEGIN:VCALENDAR
VERSION:2.0
PRODID:-//SportPlan//Event Calendar//EN
CALSCALE:GREGORIAN
BEGIN:VEVENT
UID:7610cb94-8ff2-44fa-aa01-e7472bf152bb@sportplan.local
DTSTAMP:20260420T194544Z
DTSTART;VALUE=DATE:20260430
DTEND;VALUE=DATE:20260501
SUMMARY:Clowbridge 5k
DESCRIPTION:
LOCATION:Burnley
URL:https://sportplan.vercel.app/it/events/clowbridge-5k-burnley-2026-04-30
END:VEVENT
END:VCALENDAR
