BEGIN:VCALENDAR
VERSION:2.0
PRODID:-//SportPlan//Event Calendar//EN
CALSCALE:GREGORIAN
BEGIN:VEVENT
UID:425565ac-9032-41e3-b1af-ec1335743cde@sportplan.local
DTSTAMP:20260420T195415Z
DTSTART;VALUE=DATE:20260426
DTEND;VALUE=DATE:20260427
SUMMARY:Cinc Cims
DESCRIPTION:Cinc Cims se celebra el 26 de abril de 2026 en Corbera de Llobregat\, Barcelona\, Cataluña. Es una buena opción para quienes buscan un evento bien organizado en un entorno atractivo. El recorrido cubre aproximadamente 27 km. Consulta la información oficial del organizador para conocer horarios\, recogida de dorsales y detalles logísticos.
LOCATION:Corbera de Llobregat\, Barcelona\, Cataluña
URL:https://sportplan.vercel.app/it/events/cinc-cims-corbera-de-llobregat-2026-04-26-27k
END:VEVENT
END:VCALENDAR
