BEGIN:VCALENDAR
VERSION:2.0
PRODID:-//SportPlan//Event Calendar//EN
CALSCALE:GREGORIAN
BEGIN:VEVENT
UID:5b7faa39-2814-4802-9443-38f31ef5d3e8@sportplan.local
DTSTAMP:20260420T195038Z
DTSTART;VALUE=DATE:20260508
DTEND;VALUE=DATE:20260511
SUMMARY:Cigna Healthcare HYROX Hong Kong 2026
DESCRIPTION:Cigna Healthcare HYROX Hong Kong 2026 is a three-day mass-participation hybrid fitness race at AsiaWorld-Expo. The official HYROX event page confirms open solo\, doubles\, doubles pro\, and relay formats\, making it a clear amateur-participation event rather than a pro-only competition.
LOCATION:Hong Kong
URL:https://sportplan.vercel.app/it/events/cigna-healthcare-hyrox-hong-kong-2026-2026-05-08
END:VEVENT
END:VCALENDAR
