BEGIN:VCALENDAR
VERSION:2.0
PRODID:-//SportPlan//Event Calendar//EN
CALSCALE:GREGORIAN
BEGIN:VEVENT
UID:5882b7e6-4bb9-4fc8-aeb2-55f668dd3b98@sportplan.local
DTSTAMP:20260421T043216Z
DTSTART;VALUE=DATE:20270220
DTEND;VALUE=DATE:20270221
SUMMARY:Challenge Wānaka
DESCRIPTION:discovered via official Challenge Family race pages\; NZ solo remained unseeded in the queue because earlier Oceania entries were grouped under AU/NZ.
LOCATION:Lake Wānaka\, New Zealand
URL:https://sportplan.vercel.app/it/events/challenge-wanaka-2027-02-20
END:VEVENT
END:VCALENDAR
