BEGIN:VCALENDAR
VERSION:2.0
PRODID:-//SportPlan//Event Calendar//EN
CALSCALE:GREGORIAN
BEGIN:VEVENT
UID:e9d8546a-ac92-4ee4-8bbf-bdd6b2bc8e3b@sportplan.local
DTSTAMP:20260421T011039Z
DTSTART;VALUE=DATE:20260628
DTEND;VALUE=DATE:20260629
SUMMARY:Challenge Sandefjord
DESCRIPTION:discovered via official Challenge Family race page\; Norway had 0 queue entries before this run and was selected to expand Nordic coverage under the underrepresented-country rule
LOCATION:Sandefjord\, Norway
URL:https://sportplan.vercel.app/it/events/challenge-sandefjord-2026-06-28
END:VEVENT
END:VCALENDAR
