BEGIN:VCALENDAR
VERSION:2.0
PRODID:-//SportPlan//Event Calendar//EN
CALSCALE:GREGORIAN
BEGIN:VEVENT
UID:31f78e4d-398f-497d-affe-28b5083d5670@sportplan.local
DTSTAMP:20260420T211100Z
DTSTART;VALUE=DATE:20270129
DTEND;VALUE=DATE:20270130
SUMMARY:Challenge Israman
DESCRIPTION:discovered via official Challenge Family race calendar/pages\; Israel had 0 queue entries before this run and was selected to expand worldwide coverage into a new region
LOCATION:Eilat\, Israel
URL:https://sportplan.vercel.app/it/events/challenge-israman-2027-01-29
END:VEVENT
END:VCALENDAR
