BEGIN:VCALENDAR
VERSION:2.0
PRODID:-//SportPlan//Event Calendar//EN
CALSCALE:GREGORIAN
BEGIN:VEVENT
UID:b78c31f8-6a35-446f-91d7-c3e3cb8fc6a7@sportplan.local
DTSTAMP:20260420T182341Z
DTSTART;VALUE=DATE:20260717
DTEND;VALUE=DATE:20260718
SUMMARY:Ccc By UTMB — Grau Roig 55K 2026
DESCRIPTION:Ccc By UTMB — Grau Roig 55K 2026 se déroule à Grau Roig\, Andorra le 17 juillet 2026\, en rassemblant les coureurs dans un cadre agréable et une belle ambiance sportive. L'épreuve propose sur environ 55 km\, avec un parcours bien balisé et une belle ambiance de course\, ce qui en fait un excellent choix aussi bien pour se challenger que pour profiter pleinement de la journée.
LOCATION:Grau Roig\, Andorra
URL:https://sportplan.vercel.app/it/events/ccc-by-utmb-grau-roig-55k-2026-grau-roig-2026-07-17
END:VEVENT
END:VCALENDAR
