BEGIN:VCALENDAR
VERSION:2.0
PRODID:-//SportPlan//Event Calendar//EN
CALSCALE:GREGORIAN
BEGIN:VEVENT
UID:468277c2-2fa4-4a5b-8461-e90466ee6c08@sportplan.local
DTSTAMP:20260420T195810Z
DTSTART;VALUE=DATE:20260509
DTEND;VALUE=DATE:20260518
SUMMARY:Cavernícola Race Mapfre Barbadás 2026 — Tanda 10 (Popular) 10K
DESCRIPTION:Cavernícola Race Mapfre Barbadás 2026 — Tanda 10 (Popular) 10K se celebra el 9 mayo 2026 en Barbadás\, ofreciendo una cita ideal para participantes que buscan una experiencia bien organizada y con ambiente deportivo. El evento propone un recorrido con una distancia aproximada de 10 km\, pensado para disfrutar del entorno\, mantener un buen ritmo y compartir la jornada con otros asistentes.
LOCATION:Barbadás
URL:https://sportplan.vercel.app/it/events/cavernicola-race-mapfre-barbadas-2026-tanda-10-popular-10k-barbadas-2026-05-09
END:VEVENT
END:VCALENDAR
