BEGIN:VCALENDAR
VERSION:2.0
PRODID:-//SportPlan//Event Calendar//EN
CALSCALE:GREGORIAN
BEGIN:VEVENT
UID:46ce719c-388c-4bdc-a07e-3d5bf7ac5fc1@sportplan.local
DTSTAMP:20260420T195811Z
DTSTART;VALUE=DATE:20260509
DTEND;VALUE=DATE:20260518
SUMMARY:Cavernícola Race Mapfre Barbadás 2026 — Tanda 1 (Élite) 1K
DESCRIPTION:Cavernícola Race Mapfre Barbadás 2026 — Tanda 1 (Élite) 1K se celebra el 9 mayo 2026 en Barbadás\, ofreciendo una cita ideal para participantes que buscan una experiencia bien organizada y con ambiente deportivo. El evento propone un recorrido con un recorrido claramente señalizado\, pensado para disfrutar del entorno\, mantener un buen ritmo y compartir la jornada con otros asistentes.
LOCATION:Barbadás
URL:https://sportplan.vercel.app/it/events/cavernicola-race-mapfre-barbadas-2026-tanda-1-elite-1k-barbadas-2026-05-09
END:VEVENT
END:VCALENDAR
