BEGIN:VCALENDAR
VERSION:2.0
PRODID:-//SportPlan//Event Calendar//EN
CALSCALE:GREGORIAN
BEGIN:VEVENT
UID:271cc0ef-659b-4fa9-8518-62dc0ca78c9f@sportplan.local
DTSTAMP:20260420T211516Z
DTSTART;VALUE=DATE:20260606
DTEND;VALUE=DATE:20260607
SUMMARY:Casamanya Extreme Vertical
DESCRIPTION:Official Casamanya Extrem site lists the 2026 Casamanya Extrem Vertical Race in Ordino as the 6 June 2026 uphill mountain-running race\, with registration handled on the official Casamanya registration page.
LOCATION:Ordino\, Andorra
URL:https://sportplan.vercel.app/it/events/casamanya-extreme-vertical-ordino-2026-06-06
END:VEVENT
END:VCALENDAR
