BEGIN:VCALENDAR
VERSION:2.0
PRODID:-//SportPlan//Event Calendar//EN
CALSCALE:GREGORIAN
BEGIN:VEVENT
UID:dc19dd5b-5548-4bc3-a54f-12a35ca6b8b8@sportplan.local
DTSTAMP:20260420T211513Z
DTSTART;VALUE=DATE:20260929
DTEND;VALUE=DATE:20260930
SUMMARY:Carrera y Marcha de Rabosa
DESCRIPTION:Carrera y Marcha de Rabosa se celebra en PETREL\, Alacant\, Comunidad Valenciana el 29 de septiembre de 2026\, ofreciendo a los corredores una ocasión ideal para disfrutar de un ambiente competitivo y bien organizado en ES. La distancia anunciada es de 14 km\, una propuesta atractiva para corredores que buscan un reto claro y una jornada especial. Es una prueba pensada para vivir una jornada deportiva motivadora\, tanto para atletas experimentados como para participantes entusiastas.
LOCATION:PETREL\, Alacant\, Comunidad Valenciana
URL:https://sportplan.vercel.app/it/events/carrera-y-marcha-de-rabosa-petrel-2026-09-29-14k
END:VEVENT
END:VCALENDAR
