BEGIN:VCALENDAR
VERSION:2.0
PRODID:-//SportPlan//Event Calendar//EN
CALSCALE:GREGORIAN
BEGIN:VEVENT
UID:f9a476e1-c73a-4e93-b4d2-5a960b5972a0@sportplan.local
DTSTAMP:20260420T200401Z
DTSTART;VALUE=DATE:20261027
DTEND;VALUE=DATE:20261028
SUMMARY:Carrera Corta Campanarios
DESCRIPTION:Carrera Corta Campanarios se celebrará el 27 de octubre de 2026 en Casas del Monte\, Cáceres\, Extremadura. Es una buena cita para quienes quieren vivir el ambiente del evento en directo y planificar la jornada con antelación. La sede prevista está a unos 10.7 km\, así que conviene revisar accesos\, horarios y servicios antes de salir.
LOCATION:Casas del Monte\, Cáceres\, Extremadura
URL:https://sportplan.vercel.app/it/events/carrera-corta-campanarios-casas-del-monte-2026-10-27-10-7k
END:VEVENT
END:VCALENDAR
