BEGIN:VCALENDAR
VERSION:2.0
PRODID:-//SportPlan//Event Calendar//EN
CALSCALE:GREGORIAN
BEGIN:VEVENT
UID:aad01fbf-b595-46c9-b4b5-603734fa9bd2@sportplan.local
DTSTAMP:20260420T224321Z
DTSTART;VALUE=DATE:20260920
DTEND;VALUE=DATE:20260921
SUMMARY:Carman's Fun Run Sydney
DESCRIPTION:Official event landing page from Sole Motive.
LOCATION:Metcalfe Park\, Pyrmont\, Sydney\, Australia
URL:https://sportplan.vercel.app/it/events/carman-s-fun-run-sydney-2026-09-20
END:VEVENT
END:VCALENDAR
