BEGIN:VCALENDAR
VERSION:2.0
PRODID:-//SportPlan//Event Calendar//EN
CALSCALE:GREGORIAN
BEGIN:VEVENT
UID:a13c2d4c-ef71-464a-9842-12ae96cbf0b4@sportplan.local
DTSTAMP:20260420T195021Z
DTSTART;VALUE=DATE:20261017
DTEND;VALUE=DATE:20261019
SUMMARY:Cappadocia Ultra Trail 120K 2026
DESCRIPTION:
LOCATION:Ürgüp\, Nevşehir
URL:https://sportplan.vercel.app/it/events/cappadocia-ultra-trail-120k-2026-rg-p-2026-10-17
END:VEVENT
END:VCALENDAR
