BEGIN:VCALENDAR
VERSION:2.0
PRODID:-//SportPlan//Event Calendar//EN
CALSCALE:GREGORIAN
BEGIN:VEVENT
UID:54e005ac-c850-43f4-b2c8-6988642fae49@sportplan.local
DTSTAMP:20260420T194616Z
DTSTART;VALUE=DATE:20261108
DTEND;VALUE=DATE:20261109
SUMMARY:Cappadocia Marathon Turkey
DESCRIPTION:World's Marathons event page\; hilly trail-format marathon/20K/10K in Cappadocia.
LOCATION:Göreme\, Nevşehir\, Turkey
URL:https://sportplan.vercel.app/it/events/cappadocia-marathon-turkey-2026-11-08
END:VEVENT
END:VCALENDAR
