BEGIN:VCALENDAR
VERSION:2.0
PRODID:-//SportPlan//Event Calendar//EN
CALSCALE:GREGORIAN
BEGIN:VEVENT
UID:1cb72dfb-d2d4-47c2-847a-f527aaf181a9@sportplan.local
DTSTAMP:20260420T235847Z
DTSTART;VALUE=DATE:20260801
DTEND;VALUE=DATE:20260802
SUMMARY:Canillo Trail 40K 2 Etapas
DESCRIPTION:Canillo Trail 40K 2 Etapas aura lieu le 1 août 2026 à Canillo. C'est un rendez-vous intéressant pour les participants qui recherchent une organisation solide et une belle expérience sportive. La distance annoncée est de 40 km\, utile pour préparer votre allure\, votre entraînement et votre logistique.
LOCATION:Canillo
URL:https://sportplan.vercel.app/it/events/canillo-trail-40k-2-etapas-canillo-2026-08-01-40k
END:VEVENT
END:VCALENDAR
