BEGIN:VCALENDAR
VERSION:2.0
PRODID:-//SportPlan//Event Calendar//EN
CALSCALE:GREGORIAN
BEGIN:VEVENT
UID:ec44d376-8223-46bf-bf9e-0f1ca2858b95@sportplan.local
DTSTAMP:20260420T210126Z
DTSTART;VALUE=DATE:20260206
DTEND;VALUE=DATE:20260207
SUMMARY:Cairo Half Marathon 2026
DESCRIPTION:The official Cairo Marathon 2026 site lists the 6 February 2026 race in Merryland Park\, Heliopolis\, Cairo\, with amateur participation across the 21 km half marathon\, 10 km race\, 5 km fun run\, and family run. The page positions the event as an accessible mass-participation road race with volunteer support and public registration windows.
LOCATION:Merryland Park\, Heliopolis\, Cairo
URL:https://sportplan.vercel.app/it/events/cairo-half-marathon-2026-heliopolis-cairo-2026-02-06
END:VEVENT
END:VCALENDAR
