BEGIN:VCALENDAR
VERSION:2.0
PRODID:-//SportPlan//Event Calendar//EN
CALSCALE:GREGORIAN
BEGIN:VEVENT
UID:b3077d59-7511-4e26-8705-8a3f40b0ae79@sportplan.local
DTSTAMP:20260420T211255Z
DTSTART;VALUE=DATE:20270213
DTEND;VALUE=DATE:20270214
SUMMARY:Busselton Jetty Swim
DESCRIPTION:Official event page\; open-water swim festival
LOCATION:Busselton Jetty\, Geographe Bay\, Western Australia\, Australia
URL:https://sportplan.vercel.app/it/events/busselton-jetty-swim-2027-02-13
END:VEVENT
END:VCALENDAR
