BEGIN:VCALENDAR
VERSION:2.0
PRODID:-//SportPlan//Event Calendar//EN
CALSCALE:GREGORIAN
BEGIN:VEVENT
UID:cae53275-119f-40c0-97f3-139ee2065642@sportplan.local
DTSTAMP:20260420T224321Z
DTSTART;VALUE=DATE:20261108
DTEND;VALUE=DATE:20261109
SUMMARY:Busan Marathon 2026
DESCRIPTION:Busan Marathon 2026 is scheduled for November 8\, 2026 at Busan\, Busan. It is a solid option for people who want to experience the event live and plan their day in advance. The listed venue is about 42.2 km away\, so it helps to check access\, timing\, and on-site amenities before heading out.
LOCATION:Busan\, Busan
URL:https://sportplan.vercel.app/it/events/busan-marathon-2026-busan-2026-11-08
END:VEVENT
END:VCALENDAR
