BEGIN:VCALENDAR
VERSION:2.0
PRODID:-//SportPlan//Event Calendar//EN
CALSCALE:GREGORIAN
BEGIN:VEVENT
UID:e451a896-c56e-4379-80c4-4795c37b03ce@sportplan.local
DTSTAMP:20260420T195719Z
DTSTART;VALUE=DATE:20260607
DTEND;VALUE=DATE:20260608
SUMMARY:BTT Campionato Galicia XCO
DESCRIPTION:BTT Campionato Galicia XCO se celebrará en Ourense el 7 de junio de 2026. Una cita ideal para disfrutar del ambiente del evento con un recorrido de 35 km y compartir una experiencia deportiva bien organizada. Perfecto tanto para participantes que buscan superarse como para quienes quieren vivir una jornada activa en un entorno especial.
LOCATION:Ourense
URL:https://sportplan.vercel.app/it/events/btt-campionato-galicia-xco-ourense-2026-06-07
END:VEVENT
END:VCALENDAR
