BEGIN:VCALENDAR
VERSION:2.0
PRODID:-//SportPlan//Event Calendar//EN
CALSCALE:GREGORIAN
BEGIN:VEVENT
UID:7bd405c6-ff34-41b4-9694-8ed46d8719f5@sportplan.local
DTSTAMP:20260420T195040Z
DTSTART;VALUE=DATE:20260620
DTEND;VALUE=DATE:20260621
SUMMARY:Broken Arrow Skyrace 26K 2026
DESCRIPTION:
LOCATION:Palisades Tahoe\, California
URL:https://sportplan.vercel.app/it/events/broken-arrow-skyrace-26k-2026-palisades-tahoe-2026-06-20
END:VEVENT
END:VCALENDAR
