BEGIN:VCALENDAR
VERSION:2.0
PRODID:-//SportPlan//Event Calendar//EN
CALSCALE:GREGORIAN
BEGIN:VEVENT
UID:49a5c8a8-68e9-4e46-a1cb-048b7157b691@sportplan.local
DTSTAMP:20260420T211359Z
DTSTART;VALUE=DATE:20260712
DTEND;VALUE=DATE:20260713
SUMMARY:Bragança Granfondo
DESCRIPTION:Bragança Granfondo 2026 is an official amateur road cycling granfondo in Bragança\, Portugal on 12 July 2026. The official organizer page describes three routes in the Montesinho Natural Park\, with 49 km minifondo\, 88 km mediofondo and 123 km granfondo options that explore the Alto Nordeste Transmontano and the Reserva da Biosfera Transfronteiriça Meseta Ibérica.
LOCATION:Bragança\, Portugal
URL:https://sportplan.vercel.app/it/events/braganca-granfondo-braganza-2026-07-12
END:VEVENT
END:VCALENDAR
