BEGIN:VCALENDAR
VERSION:2.0
PRODID:-//SportPlan//Event Calendar//EN
CALSCALE:GREGORIAN
BEGIN:VEVENT
UID:499368e2-e6e5-4d4b-aaed-066e8c629000@sportplan.local
DTSTAMP:20260420T195100Z
DTSTART;VALUE=DATE:20260510
DTEND;VALUE=DATE:20260511
SUMMARY:Bougebouge Outaouais Festival and World Cultures
DESCRIPTION:Bougebouge Outaouais Festival and World Cultures takes place in Gatineau on May 10\, 2026\, bringing runners together for a memorable race-day atmosphere. Whether you're aiming for a personal best or simply want to enjoy the course\, this event offers a motivating experience in Gatineau.
LOCATION:Gatineau
URL:https://sportplan.vercel.app/it/events/bougebouge-outaouais-festival-and-world-cultures-gatineau-2026-05-10
END:VEVENT
END:VCALENDAR
