BEGIN:VCALENDAR
VERSION:2.0
PRODID:-//SportPlan//Event Calendar//EN
CALSCALE:GREGORIAN
BEGIN:VEVENT
UID:a6ffd51a-07ec-4fce-8f2a-6d112e8e8c95@sportplan.local
DTSTAMP:20260420T194909Z
DTSTART;VALUE=DATE:20260516
DTEND;VALUE=DATE:20260518
SUMMARY:Blue Nose International Marathon
DESCRIPTION:
LOCATION:Halifax
URL:https://sportplan.vercel.app/it/events/blue-nose-international-marathon-halifax-2026-05-16
END:VEVENT
END:VCALENDAR
