BEGIN:VCALENDAR
VERSION:2.0
PRODID:-//SportPlan//Event Calendar//EN
CALSCALE:GREGORIAN
BEGIN:VEVENT
UID:5f0ad411-49ac-4805-bc86-7c1d1388da4b@sportplan.local
DTSTAMP:20260420T224517Z
DTSTART;VALUE=DATE:20260711
DTEND;VALUE=DATE:20260712
SUMMARY:Black Mountains Ultra 50 mi\, 32 mi\, Marathon & Half Marathon
DESCRIPTION:discovered via Brave web_search + web_fetch on direct World's Marathons UK trail page
LOCATION:Llanbedr / Crickhowell\, United Kingdom
URL:https://sportplan.vercel.app/it/events/black-mountains-ultra-50-mi-32-mi-marathon-half-marathon-2026-07-11
END:VEVENT
END:VCALENDAR
