BEGIN:VCALENDAR
VERSION:2.0
PRODID:-//SportPlan//Event Calendar//EN
CALSCALE:GREGORIAN
BEGIN:VEVENT
UID:c32381a0-09be-493c-9ca8-3b1ee3216c85@sportplan.local
DTSTAMP:20260420T211612Z
DTSTART;VALUE=DATE:20261219
DTEND;VALUE=DATE:20261220
SUMMARY:Bkt Zamudio 2026 — Trail 20K 20K
DESCRIPTION:Bkt Zamudio 2026 — Trail 20K 20K se celebrará el 19 de diciembre de 2026 en Zamudio. Es una buena cita para quienes quieren vivir el ambiente del evento en directo y planificar la jornada con antelación. La sede prevista está a unos 20 km\, así que conviene revisar accesos\, horarios y servicios antes de salir.
LOCATION:Zamudio
URL:https://sportplan.vercel.app/it/events/bkt-zamudio-2026-trail-20k-20k-zamudio-2026-12-19
END:VEVENT
END:VCALENDAR
