BEGIN:VCALENDAR
VERSION:2.0
PRODID:-//SportPlan//Event Calendar//EN
CALSCALE:GREGORIAN
BEGIN:VEVENT
UID:dabe6d74-8919-47d7-b802-21a69214ad1c@sportplan.local
DTSTAMP:20260420T211611Z
DTSTART;VALUE=DATE:20261010
DTEND;VALUE=DATE:20261011
SUMMARY:Bkt Arrieta 2026 — Trail 10K 10K
DESCRIPTION:Bkt Arrieta 2026 — Trail 10K 10K se celebrará en Arrieta el 10 octubre 2026. Es una cita ideal para quienes buscan una experiencia deportiva bien organizada y un recorrido de 10 km. Perfecto tanto para participantes que quieren rendir al máximo como para quienes desean disfrutar del ambiente del evento.
LOCATION:Arrieta
URL:https://sportplan.vercel.app/it/events/bkt-arrieta-2026-trail-10k-10k-arrieta-2026-10-10
END:VEVENT
END:VCALENDAR
