BEGIN:VCALENDAR
VERSION:2.0
PRODID:-//SportPlan//Event Calendar//EN
CALSCALE:GREGORIAN
BEGIN:VEVENT
UID:b60ca675-b15f-417b-91ee-ddee4a617f8e@sportplan.local
DTSTAMP:20260421T013912Z
DTSTART;VALUE=DATE:20270321
DTEND;VALUE=DATE:20270322
SUMMARY:Birken Ski UH 16.5 km 2027
DESCRIPTION:Birken Ski UH 2027 is the official Birken cross-country ski race for developmentally disabled adults in Norway\, held on Sunday 21 March 2027. The official event page says the race starts at Sjusjøen Ski Stadium\, finishes at Birkebeineren Ski Stadium\, and uses an approximately 16.5 km course. Participants must be at least 16 years old by 31 December 2027.
LOCATION:Sjusjøen
URL:https://sportplan.vercel.app/it/events/birken-ski-uh-16-5-km-2027-sjusjoen-2027-03-21
END:VEVENT
END:VCALENDAR
