BEGIN:VCALENDAR
VERSION:2.0
PRODID:-//SportPlan//Event Calendar//EN
CALSCALE:GREGORIAN
BEGIN:VEVENT
UID:f44c037a-e7c3-4c06-b3a0-1e341baf5e21@sportplan.local
DTSTAMP:20260420T194908Z
DTSTART;VALUE=DATE:20260516
DTEND;VALUE=DATE:20260517
SUMMARY:Big Wolf’s Backyard - Edmundston
DESCRIPTION:
LOCATION:Edmundston
URL:https://sportplan.vercel.app/it/events/big-wolf-s-backyard-edmundston-edmundston-2026-05-16
END:VEVENT
END:VCALENDAR
